BEGIN:VCALENDAR
VERSION:2.0
PRODID:-//wp-events-plugin.com//7.2.3.1//EN
TZID:Europe/Berlin
X-WR-TIMEZONE:Europe/Berlin
BEGIN:VEVENT
UID:435@rheinbrueder.de
DTSTART;TZID=Europe/Berlin:20160721T183000
DTEND;TZID=Europe/Berlin:20160721T200000
DTSTAMP:20160523T174357Z
URL:https://www.rheinbrueder.de/events/drachenboottraining-6/
SUMMARY:Drachenboottraining
DESCRIPTION:\n\nDas Drachenboot-Training findet fast jeden Donnerstags um 1
 8:30 statt. Um alle Termine zu sehen klicke bitte oben auf die Kategorie.\
 nWenn du interessiert bist und einfach mal vorbei kommen willst\, melde di
 ch unten an.\nMitzubringen sind lediglich Klamotten und Schuhe die nass we
 rden dürfen und Wechselkleidung.\n\nMeld dich an und komm vorbei:
ATTACH;FMTTYPE=image/jpeg:https://www.rheinbrueder.de/wp-content/uploads/2
 016/03/Bild5.jpg
LOCATION:Bootshaus Rappenwört\, Hermann-Schneider-Allee 49b\, Karlsruhe\, 
 Baden-Württemberg\, 76189\, Daxlanden\, Deutschland
GEO:48.99699;8.29286
X-APPLE-STRUCTURED-LOCATION;VALUE=URI;X-ADDRESS=Hermann-Schneider-Allee 49b
 \, Karlsruhe\, Baden-Württemberg\, 76189\, Daxlanden\, Deutschland;X-APPL
 E-RADIUS=100;X-TITLE=Bootshaus Rappenwört:geo:48.99699,8.29286
END:VEVENT
BEGIN:VTIMEZONE
TZID:Europe/Berlin
X-LIC-LOCATION:Europe/Berlin
BEGIN:DAYLIGHT
DTSTART:20160327T030000
TZOFFSETFROM:+0100
TZOFFSETTO:+0200
TZNAME:CEST
END:DAYLIGHT
END:VTIMEZONE
END:VCALENDAR