BEGIN:VCALENDAR
VERSION:2.0
PRODID:-//wp-events-plugin.com//7.2.3.1//EN
TZID:Europe/Berlin
X-WR-TIMEZONE:Europe/Berlin
BEGIN:VEVENT
UID:1190@rheinbrueder.de
DTSTART;TZID=Europe/Berlin:20190106T100000
DTEND;TZID=Europe/Berlin:20190106T130000
DTSTAMP:20181229T221915Z
URL:https://www.rheinbrueder.de/events/dreikoenigs-fruehstueck/
SUMMARY:Dreikönigs-Frühstück
DESCRIPTION:Frühstück am 06.01. um 10.00 Uhr im Bootshaus Rappenwört\nEi
 nfach so\, ganz gemütlich\, ohne große Reden und Tamtam zusammensitzen..
 .\nVielleicht hat der ein odere andere ein paar Bilder vom Paddeln\, Skifa
 hren\,Segeln oder Wandern\, die wir anschauen könnten.\n\nDamit die Bröt
 chen\, der Kaffee\,Tee und was es sonst noch so gibt für alle reicht\, me
 ldet euch bitte per Mail/whatsapp/SMS oder so bis zum 03.01. an.\n\nWir fr
 euen uns auf ein leckeres Frühstück mit euch\nReginbert und Anke
CATEGORIES:Rheinbrüder
LOCATION:Bootshaus Rappenwört\, Hermann-Schneider-Allee 49b\, Karlsruhe\, 
 Baden-Württemberg\, 76189\, Daxlanden\, Deutschland
GEO:48.99699;8.29286
X-APPLE-STRUCTURED-LOCATION;VALUE=URI;X-ADDRESS=Hermann-Schneider-Allee 49b
 \, Karlsruhe\, Baden-Württemberg\, 76189\, Daxlanden\, Deutschland;X-APPL
 E-RADIUS=100;X-TITLE=Bootshaus Rappenwört:geo:48.99699,8.29286
END:VEVENT
BEGIN:VTIMEZONE
TZID:Europe/Berlin
X-LIC-LOCATION:Europe/Berlin
BEGIN:STANDARD
DTSTART:20181028T020000
TZOFFSETFROM:+0200
TZOFFSETTO:+0100
TZNAME:CET
END:STANDARD
END:VTIMEZONE
END:VCALENDAR