BEGIN:VCALENDAR
VERSION:2.0
PRODID:-//wp-events-plugin.com//7.2.3.1//EN
TZID:Europe/Berlin
X-WR-TIMEZONE:Europe/Berlin
BEGIN:VEVENT
UID:1188@rheinbrueder.de
DTSTART;TZID=Europe/Berlin:20190202T100000
DTEND;TZID=Europe/Berlin:20190202T160000
DTSTAMP:20190112T212045Z
URL:https://www.rheinbrueder.de/events/dsv-talenttag2018/
SUMMARY:DSV Talenttag 2018/2019 -neuer Termin-
DESCRIPTION:\n\nDie Rheinbrüder Karlsruhe sind Veranstalter eines der DSV 
 Talenttage Ski Alpin. Veranstaltungsort ist der Skilift Seibelseckle an de
 r Schwarzwaldhochstrasse an dem auch unsere Rennmannschaft regelmäßig ih
 r Training durchführt.\n\nTeilnahmeberechtigt&nbsp\;sind alle Kinder der 
 Jahrgänge 2007 und jünger\, die schon sicher auf den Ski stehen und selb
 stständig Liften können.&nbsp\;\nAb 10:00 Uhr besteht die Möglichkeit z
 um Training an mehreren Stationen unter Anleitung von erfahrenen Verbands-
  und Vereinstrainern aus der Region.\nZum Abschluss fahren alle Teilnehmer
  einen einfachen Vielseitigkeitslauf. Alle Teilnehmer erhalten eine Urkund
 e und ein kleines Präsent.&nbsp\; Die Teilnahme ist kostenlos es entstehe
 n lediglich kosten für die Liftkarte.\n\nDie besten und talentiertesten T
 eilnehmer werden zum Training unserer Rennmannschaft eingeladen.\nHast du 
 Lust bekommen? Dann melde dich gleich an -Anmeldung-\n\nDetaillierte Infos
  zum genauen Treffpunkt und Ablauf werden wir in den Tagen vor der Veranst
 altung an alle angemeldeten Teilnehmer versenden und auf unsere Homepage v
 eröffentlichen.\n\n&nbsp\;
ATTACH;FMTTYPE=image/jpeg:https://www.rheinbrueder.de/wp-content/uploads/2
 018/11/DSV-Talenttage-2018.jpg
CATEGORIES:Ski,Skirennmannschaft,Skischule
LOCATION:Skilift Seibelseckle\, Seibelseckle 1\, Seebach\, Deutschland
GEO:48.5951616;8.217942999999991
X-APPLE-STRUCTURED-LOCATION;VALUE=URI;X-ADDRESS=Seibelseckle 1\, Seebach\, 
 Deutschland;X-APPLE-RADIUS=100;X-TITLE=Skilift Seibelseckle:geo:48.5951616
 ,8.217942999999991
END:VEVENT
BEGIN:VTIMEZONE
TZID:Europe/Berlin
X-LIC-LOCATION:Europe/Berlin
BEGIN:STANDARD
DTSTART:20181028T020000
TZOFFSETFROM:+0200
TZOFFSETTO:+0100
TZNAME:CET
END:STANDARD
END:VTIMEZONE
END:VCALENDAR