BEGIN:VCALENDAR
VERSION:2.0
PRODID:-//wp-events-plugin.com//7.2.3.1//EN
TZID:Europe/Berlin
X-WR-TIMEZONE:Europe/Berlin
BEGIN:VEVENT
UID:535@rheinbrueder.de
DTSTART;TZID=Europe/Berlin:20161208T190000
DTEND;TZID=Europe/Berlin:20161208T233000
DTSTAMP:20161130T090911Z
URL:https://www.rheinbrueder.de/events/kanusaisonabschluss-3/
SUMMARY:Kanusaisonabschluss
DESCRIPTION:
CATEGORIES:Freizeit,Kanu,Rheinbrüder
LOCATION:Bootshaus Rappenwört\, Hermann-Schneider-Allee 49b\, Karlsruhe\, 
 Baden-Württemberg\, 76189\, Daxlanden\, Deutschland
GEO:48.99699;8.29286
X-APPLE-STRUCTURED-LOCATION;VALUE=URI;X-ADDRESS=Hermann-Schneider-Allee 49b
 \, Karlsruhe\, Baden-Württemberg\, 76189\, Daxlanden\, Deutschland;X-APPL
 E-RADIUS=100;X-TITLE=Bootshaus Rappenwört:geo:48.99699,8.29286
END:VEVENT
BEGIN:VTIMEZONE
TZID:Europe/Berlin
X-LIC-LOCATION:Europe/Berlin
BEGIN:STANDARD
DTSTART:20161030T020000
TZOFFSETFROM:+0200
TZOFFSETTO:+0100
TZNAME:CET
END:STANDARD
END:VTIMEZONE
END:VCALENDAR