BEGIN:VCALENDAR
VERSION:2.0
PRODID:-//wp-events-plugin.com//7.2.3.1//EN
TZID:Europe/Berlin
X-WR-TIMEZONE:Europe/Berlin
BEGIN:VEVENT
UID:1177@rheinbrueder.de
DTSTART;TZID=Europe/Berlin:20181122T163000
DTEND;TZID=Europe/Berlin:20181122T200000
DTSTAMP:20181110T074816Z
URL:https://www.rheinbrueder.de/events/laufen-walken-2018-11-22/
SUMMARY:Laufen/Walken/Clubabend
DESCRIPTION:Bis Ende Januar starten die Läufer und Walker bereits um 16.30
  Uhr vor dem Bootshaus  Rappenwört.\n\nDanach geselliges Beisammensein m
 it Bewirtung im Clubhaus.
CATEGORIES:Freizeit,Gymnastik,Laufen /
 Walken,Radsport,Rheinbrüder,Wandern
LOCATION:Bootshaus Rappenwört\, Hermann-Schneider-Allee 49b\, Karlsruhe\, 
 Deutschland
GEO:48.996990;8.292860
X-APPLE-STRUCTURED-LOCATION;VALUE=URI;X-ADDRESS=Hermann-Schneider-Allee 49b
 \, Karlsruhe\, Deutschland;X-APPLE-RADIUS=100;X-TITLE=Bootshaus Rappenwör
 t:geo:48.996990,8.292860
END:VEVENT
BEGIN:VTIMEZONE
TZID:Europe/Berlin
X-LIC-LOCATION:Europe/Berlin
BEGIN:STANDARD
DTSTART:20181028T020000
TZOFFSETFROM:+0200
TZOFFSETTO:+0100
TZNAME:CET
END:STANDARD
END:VTIMEZONE
END:VCALENDAR