BEGIN:VCALENDAR
VERSION:2.0
PRODID:-//wp-events-plugin.com//7.2.3.1//EN
TZID:Europe/Berlin
X-WR-TIMEZONE:Europe/Berlin
BEGIN:VEVENT
UID:436@rheinbrueder.de
DTSTART;TZID=Europe/Berlin;VALUE=DATE:20160807
DTEND;TZID=Europe/Berlin;VALUE=DATE:20160808
DTSTAMP:20160524T213017Z
URL:https://www.rheinbrueder.de/events/paddeltour-lingenfelder-runde/
SUMMARY:Paddeltour Lingenfelder Runde
DESCRIPTION:Am 7. August wollen wir eine Paddeltour auf dem Lingenfelder Al
 trhein machen.\n\nDer Lingenfelder Altrhein ist ein vom Rhein abgetrennter
  Flußabschnitt mit wenig Strömung und daher auch für\nungeübte Paddler
  gut geeignet. Da wir aber bei der großen Runde ca. 4km den Rhein befahre
 n\, sollte eine gewisse\nBootsbeherschung vorhanden sein. Alternativ gibt 
 es auch eine Runde ohne Rheinbefahrung. Eine kurze Umtragung\nmuss gemeist
 ert werden. Wir werden nach ca. 2/3 der Strecke eine Pause machen\, bei de
 r die Möglichkeit zum Baden (Sandstrand)\nbesteht. Also Badesachen nicht 
 vergessen.\n\n	Treffpunkt     : 9.00 Uhr Bootshaus Rappenwört\n	Abfahr
 t         :  9.30 Uhr\n	Strecke        : ca. 18km davon 4km 
 Rhein\n	Bootstypen  : für alle Bootstypen geeignet\n\nWie immer Verpfleg
 ung nicht vergessen.\n\nAnmeldung und Info`s :\n\nRalf Wöckner\nTel. 0171
 -2703111\nwasserwandern@rheinbrueder.de\n\n&nbsp\;
CATEGORIES:Kanu,Kanuwandern
LOCATION:Bootshaus Rappenwört\, Hermann-Schneider-Allee 49b\, Karlsruhe\, 
 Baden-Württemberg\, 76189\, Daxlanden\, Deutschland
GEO:48.99699;8.29286
X-APPLE-STRUCTURED-LOCATION;VALUE=URI;X-ADDRESS=Hermann-Schneider-Allee 49b
 \, Karlsruhe\, Baden-Württemberg\, 76189\, Daxlanden\, Deutschland;X-APPL
 E-RADIUS=100;X-TITLE=Bootshaus Rappenwört:geo:48.99699,8.29286
END:VEVENT
BEGIN:VTIMEZONE
TZID:Europe/Berlin
X-LIC-LOCATION:Europe/Berlin
BEGIN:DAYLIGHT
DTSTART:20160327T030000
TZOFFSETFROM:+0100
TZOFFSETTO:+0200
TZNAME:CEST
END:DAYLIGHT
END:VTIMEZONE
END:VCALENDAR