BEGIN:VCALENDAR
VERSION:2.0
PRODID:-//wp-events-plugin.com//7.2.3.1//EN
TZID:Europe/Berlin
X-WR-TIMEZONE:Europe/Berlin
BEGIN:VEVENT
UID:1445@rheinbrueder.de
DTSTART;TZID=Europe/Berlin:20200809T090000
DTEND;TZID=Europe/Berlin:20200809T090000
DTSTAMP:20200711T132110Z
URL:https://www.rheinbrueder.de/events/russheimer-runde/
SUMMARY:Rußheimer Runde
DESCRIPTION:Am 9. August wollen wir die Rußheimer Runde paddeln.\n\nAuf di
 eser Runde gibt es keine besonderen Schwierigkeiten. Da wir aber ca. 13km 
 auf den Rhein\npaddeln\, sollte eine gewisse Paddelerfahrung vorhanden sei
 n. Es gibt zwei Umtragungsstellen.\nNach ca. 15km und der ersten Umtragung
  machen wir eine kleine Pause. Hier besteht die Möglichkeit zur Einkehr.\
 nNach weiteren 4km und der letzten Umtragungsstelle gelangen wir an den Mi
 nthe See.\nHier werden wir mit Grillen\, Baden und Chillen die Tour auskli
 ngen lassen.\nBratwürste und Weck werde ich besorgen. Die Kosten dafür t
 rägt der Verein. Wer möchte\, kann gerne zusätzlich\nnoch eigenes Grill
 gut mitbringen. Für Getränke muss jeder selbst sorgen.\nWer noch genug K
 ondition hat\, kann auch noch den Minthe See umrunden.\n\nTreffpunkt   
   :  9.00 Uhr Bootshaus Rappenwörth\n\nAbfahrt         :  9.30 Uhr
 \n\nStrecke       : ca. 19km\n\nBootstypen : für alle Bootstypen geeig
 net\n\nGewässer : Rhein / Altrhein\n\nAnmeldung : Ralf Wöckner\nTel. 017
 1-2703111\n\nAnmeldeschluss : 4. August\n\nDie Paddeltour findet nach der 
 aktuellen Covid-19 Verordnung von BW statt.
CATEGORIES:Kanu,Kanuwandern
LOCATION:Bootshaus Rappenwört\, Hermann-Schneider-Allee 49b\, Karlsruhe\, 
 Baden-Württemberg\, 76189\, Daxlanden\, Deutschland
GEO:48.99699;8.29286
X-APPLE-STRUCTURED-LOCATION;VALUE=URI;X-ADDRESS=Hermann-Schneider-Allee 49b
 \, Karlsruhe\, Baden-Württemberg\, 76189\, Daxlanden\, Deutschland;X-APPL
 E-RADIUS=100;X-TITLE=Bootshaus Rappenwört:geo:48.99699,8.29286
END:VEVENT
BEGIN:VTIMEZONE
TZID:Europe/Berlin
X-LIC-LOCATION:Europe/Berlin
BEGIN:DAYLIGHT
DTSTART:20200329T030000
TZOFFSETFROM:+0100
TZOFFSETTO:+0200
TZNAME:CEST
END:DAYLIGHT
END:VTIMEZONE
END:VCALENDAR