BEGIN:VCALENDAR
VERSION:2.0
PRODID:-//wp-events-plugin.com//7.2.3.1//EN
TZID:Europe/Berlin
X-WR-TIMEZONE:Europe/Berlin
BEGIN:VEVENT
UID:411@rheinbrueder.de
DTSTART;TZID=Europe/Berlin:20160612T130000
DTEND;TZID=Europe/Berlin:20160612T200000
DTSTAMP:20160603T190228Z
URL:https://www.rheinbrueder.de/events/saisonabschluss-ski/
SUMMARY:Saisonabschluss Ski
DESCRIPTION:am Sonntag 12.06.2016 wieder einen gemeinsamen Saisonschluss de
 r Skiabteilung machen.\nGeplant ist eine gemeinsame Kanutour mit anschlie
 ßendem Grillen.\nWir treffen uns am Sonntag um 13:00 Uhr am Bootshaus in
  Rappenwörth zu einer Bootstour\, und wollen im Anschluss noch gemeinsame
 n beim Grillen zusammen sitzen.\n\nBitte zum Kanufahren Ersatzkleidung und
  Handtuch mitnehmen\, falls es etwas Nass wird.\n\nFür das grillen werden
  wir Grill\, Fleisch und Getränke besorgen.\nIch bitte Euch das jeder ein
 en Salat mitbringt. Ich habe eine Abfrage über das Internet erstellt wo a
 m besten jeder einträgt was er mitbringt.\nFür Fleisch und Getränke we
 rden wir dann einen Unkostenbeitrag von 10 EUR für Erwachsene und 5 EUR f
 ür Kinder kassieren.\n\nAnmeldung\n\nStand der Anmeldungen
LOCATION:Bootshaus Rappenwört\, Hermann-Schneider-Allee 49b\, Karlsruhe\, 
 Baden-Württemberg\, 76189\, Daxlanden\, Deutschland
GEO:48.99699;8.29286
X-APPLE-STRUCTURED-LOCATION;VALUE=URI;X-ADDRESS=Hermann-Schneider-Allee 49b
 \, Karlsruhe\, Baden-Württemberg\, 76189\, Daxlanden\, Deutschland;X-APPL
 E-RADIUS=100;X-TITLE=Bootshaus Rappenwört:geo:48.99699,8.29286
END:VEVENT
BEGIN:VTIMEZONE
TZID:Europe/Berlin
X-LIC-LOCATION:Europe/Berlin
BEGIN:DAYLIGHT
DTSTART:20160327T030000
TZOFFSETFROM:+0100
TZOFFSETTO:+0200
TZNAME:CEST
END:DAYLIGHT
END:VTIMEZONE
END:VCALENDAR