BEGIN:VCALENDAR
VERSION:2.0
PRODID:-//wp-events-plugin.com//7.2.3.1//EN
TZID:Europe/Berlin
X-WR-TIMEZONE:Europe/Berlin
BEGIN:VEVENT
UID:2122@rheinbrueder.de
DTSTART;TZID=Europe/Berlin;VALUE=DATE:20260321
DTEND;TZID=Europe/Berlin;VALUE=DATE:20260329
DTSTAMP:20250915T201003Z
URL:https://www.rheinbrueder.de/events/sportliches-skifahren-im-paznauntal
 /
SUMMARY:Sportliches Skifahren im Paznauntal
DESCRIPTION:\nLiebe Skifreunde\,\n\n\n\nim März 2026 führe ich mit den Rh
 einbrüdern Karlsruhe eine Skiausfahrt ins Paznauntal/Tirol durch zu der i
 ch Euch herzlichst einlade. Sportliches Skifahren auf der Piste in den Ski
 gebieten des Paznauntals (See\, Kappl und selbstverständlich das bekannte
  Ischgl) ist unser Ziel.\n\n\n\nIn Gruppen wollen wir gemeinsam unsere Ski
 -Erlebnisse und nicht nur die Sportlichen teilen. Dabei soll die Gemütlic
 hkeit nicht zu kurz kommen = Aprés Ski + Wellness. Rodeln und Tourenskiau
 fstieg sind weitere mögliche Aktivitäten\, die direkt durchgeführt werd
 en können.\n\n\n\n\n[caption id="attachment_21950" align="aligncenter" wi
 dth="933"] Terrasse des Hotel Lenz mit Bergbahn und direkter Parkmöglichk
 eit[/caption]\n\nDer absolute Clou ist die Lage unseres Hotels direkt nebe
 n der Talstation der Bergbahnen See im gleichnamigen Ort. Auch die Skipist
 e endet direkt vor dem Hotel. Das Skigebiet See ist ideal fürs Frühjahr\
 , da es bis auf 2570m reicht und eine Nordwest-Ausrichtung hat\, welche un
 s auch noch im März beste Schneebedingungen bietet. Ausflüge in die bena
 chbarten Skigebiete (Kappl und Ischgl bis 2870m) können auch mit dem regi
 onalen Bus durchgeführt werden\, da die Bushaltestelle sich direkt am Hot
 el befindet – d.h. Ihr braucht das Auto in dieser Woche nicht.\n\n\n\n\n
 [caption id="attachment_21951" align="aligncenter" width="837"] Pistenplan
  des Skigebiets See[/caption]\n\nIch habe selbst Ende März 2025 in diesem
  Hotel übernachtet und kann es sehr empfehlen – auch die Skipiste bis d
 irekt vor das Hotel war geöffnet.\n\n\n\nDer Termin:Anreise Samstag 21.03
 .2026 Abreise Samstag 28.03.2026\n\n\n\nDas Hotel: Hotel Lenz (www.hotel-l
 enz.at) - 4-Sterne mit schöner Wellnesslandschaft\n\n\n\nDas Angebot: Unt
 erbringung in großzügigen\, gemütlichen Doppelzimmern mit Halbpension 7
  Tage für 135€/Nacht + Person = 945€/Person. Einzelpersonen -sofern e
 s passt - organisiere ich einen Partner!\n\n\n\nAnreise: Mit dem eigenen P
 KW oder mit Rheinbruder Kleinbus ab KA ca. 50€ extra.\n\n\n\nNichtmitgli
 eder: Zuschlag 30€ vor Ort\n\n\n\nAnmeldung: Ich habe 10 DZ bis zum 30.0
 9.2025 vorreserviert ggf. erweiterbar &nbsp\;- daher bis 30.09.2025 anmeld
 en – länger wird der Preis/Verfügbarkeit nicht zu halten sein. Eure An
 meldung bitte bis 30.9 an jav.seubert@arcor.de\n\n\n\nSkipässe: Kaufen wi
 r vor Ort. Um eine Gruppenermäßigung -sofern genug Teilnehmer- kümmere 
 ich mich. Gültige Saisonskipässe: Snow Card Tirol\,&nbsp\; RegioTicket (
 nur See/Kappl)\n\n\n\nFür Fragen bin ich unter 0157/82752554 telefonisch 
 zu erreichen.\n\n\n\nIch freue mich auf Eure Anmeldungen und eine tolle Sk
 iausfahrt mit Euch!\n\n\n\nSportliche Grüße&nbsp\;&nbsp\;\n\n\n\nJochen 
 Seubert\n
CATEGORIES:Ski
LOCATION:See (AT) - Hotel Lenz\, Au\, 171\, See\, Tirol\, 6553\, Paznauntal
 \, Österreich
X-APPLE-STRUCTURED-LOCATION;VALUE=URI;X-ADDRESS=Au\, 171\, See\, Tirol\, 65
 53\, Paznauntal\, Österreich;X-APPLE-RADIUS=100;X-TITLE=See (AT) - Hotel 
 Lenz:geo:0,0
END:VEVENT
BEGIN:VTIMEZONE
TZID:Europe/Berlin
X-LIC-LOCATION:Europe/Berlin
BEGIN:STANDARD
DTSTART:20251026T020000
TZOFFSETFROM:+0200
TZOFFSETTO:+0100
TZNAME:CET
END:STANDARD
END:VTIMEZONE
END:VCALENDAR