BEGIN:VCALENDAR
VERSION:2.0
PRODID:-//wp-events-plugin.com//7.2.3.1//EN
TZID:Europe/Berlin
X-WR-TIMEZONE:Europe/Berlin
BEGIN:VEVENT
UID:437@rheinbrueder.de
DTSTART;TZID=Europe/Berlin:20170623T150000
DTEND;TZID=Europe/Berlin:20170623T210000
DTSTAMP:20170517T064947Z
URL:https://www.rheinbrueder.de/events/stadtwerke-cup-2017/
SUMMARY:Stadtwerke-Cup 2017
DESCRIPTION:Anmeldeinformationen zum\n16. Stadtwerke-Cup am Freitag\, 23. J
 uni 2017\n- im Rahmen des Hafen-Kultur-Festes der Rheinhäfen Karlsruhe -\
 nZur Anmeldung füllen Sie bitte das unten angehängte Formular aus:\n1. M
 it Eingabe der Bootsanzahl unter „Plätze“ öffnen sich automatisch we
 itere Felder:\n2. Sie werden zur Angabe ihrer Teammitglieder gebeten.\n3.
  Sie können drei Daten für Ihren Wunschtrainingstermin im Zeitraum vom 2
 9.5. - 09.06.17 eingeben.\n4. Abschließend müssen Sie noch den Firmenna
 men und einen Ansprechpartner mit Email-Adresse eingeben und abschicken.\n
 \nIm Anschluss erhalten Sie von uns per Mail eine Rechnung über ihr Start
 geld mit der Bitte um Überweisung der Startgebühr innerhalb von 14 Tagen
  in Höhe von 80€ pro Boot.\nNach Zahlungseingang erhalten Sie von uns e
 ine Bestätigungsmail.\n\nMit dem Ende des Anmeldeschlusses am 19.05.2017 
 sondieren wir alle Wunschtrainingstermine und teilen Ihnen dann umgehend I
 hren Trainingstermin mit.\n\nWir bitten einen Vertreter ihrer Mannschaft a
 n der Regattabesprechung am 23.06.2017 um 14:00 Uhr im Casino der Rheinhä
 fen in der Werftstraße teilzunehmen.\n\nWir freuen uns auf Ihre Teilnahme
  und auf eine spannende Regatta!\n\nIhr Stadtwerke-Cup Organisationsteam d
 er\n\n\n\nFragen zur Regatta bitte an stadtwerkecup@rheinbrueder.de\, wir 
 melden uns umgehend!
ATTACH;FMTTYPE=image/jpeg:https://www.rheinbrueder.de/wp-content/uploads/2
 014/06/SWC16_2.png
CATEGORIES:Kanu,Stadtwerke-Cup
LOCATION:Rheinhafen Becken 2\, An der Anlegestelle\, Karlsruhe\, Baden-Wür
 ttemberg\,  76189 \, Deutschland
GEO:49.015425;8.344161699999972
X-APPLE-STRUCTURED-LOCATION;VALUE=URI;X-ADDRESS=An der Anlegestelle\, Karls
 ruhe\, Baden-Württemberg\,  76189 \, Deutschland;X-APPLE-RADIUS=100;X-TIT
 LE=Rheinhafen Becken 2:geo:49.015425,8.344161699999972
END:VEVENT
BEGIN:VTIMEZONE
TZID:Europe/Berlin
X-LIC-LOCATION:Europe/Berlin
BEGIN:DAYLIGHT
DTSTART:20170326T030000
TZOFFSETFROM:+0100
TZOFFSETTO:+0200
TZNAME:CEST
END:DAYLIGHT
END:VTIMEZONE
END:VCALENDAR